BEGIN:VCALENDAR
VERSION:2.0
PRODID:-//wp-events-plugin.com//7.2.3.1//EN
TZID:Europe/Berlin
X-WR-TIMEZONE:Europe/Berlin
BEGIN:VEVENT
UID:21@vogelpark-karlsdorf.de
DTSTART;TZID=Europe/Berlin:20261009T180000
DTEND;TZID=Europe/Berlin:20261009T234500
DTSTAMP:20260107T152507Z
URL:https://vogelpark-karlsdorf.de/events/spieleabend-11
SUMMARY:Spieleabend
DESCRIPTION:Spieleabend im Erlenstüble:\n\n&nbsp\;\n\nIhr spielt kein Skat
 ? Kein Problem\, denn auch Darts\, Schach und verschiedene Brettspiele wer
 den angeboten.\n\nNeugierig geworden?\n\nDann bitte unbedingt vorbeikommen
  für einen lustigen Abend im Vogelpark!
LOCATION:Erlenstüble\, Stadtwald 5\, Karlsdorf\, 76689\, Deutschland
X-APPLE-STRUCTURED-LOCATION;VALUE=URI;X-ADDRESS=Stadtwald 5\, Karlsdorf\, 7
 6689\, Deutschland;X-APPLE-RADIUS=100;X-TITLE=Erlenstüble:geo:0,0
END:VEVENT
BEGIN:VTIMEZONE
TZID:Europe/Berlin
X-LIC-LOCATION:Europe/Berlin
BEGIN:DAYLIGHT
DTSTART:20260329T030000
TZOFFSETFROM:+0100
TZOFFSETTO:+0200
TZNAME:CEST
END:DAYLIGHT
END:VTIMEZONE
END:VCALENDAR