BEGIN:VCALENDAR
VERSION:2.0
PRODID:-//wp-events-plugin.com//7.2.3.1//EN
TZID:Europe/Berlin
X-WR-TIMEZONE:Europe/Berlin
BEGIN:VEVENT
UID:15@vogelpark-karlsdorf.de
DTSTART;TZID=Europe/Berlin:20260524T120000
DTEND;TZID=Europe/Berlin:20260524T234500
DTSTAMP:20251123T182211Z
URL:https://vogelpark-karlsdorf.de/events/parkfest-24-05-26
SUMMARY:Parkfest 24.05.26
DESCRIPTION:Wir laden euch herzlich zu unserem zweiten Tag des Parkfests ei
 n. Zum Mittagstisch ab 12Uhr servieren wir Wurstsalat\, Schnitzel mit Pomm
 es und Salat\, sowie unser beliebtes Wildschweingulasch mit hausgemachten 
 Spätzle und Salat.\nAm Abend ab 19:00Uhr Live Musik und Leckereien vom Gr
 ill
LOCATION:Erlenwald\, Stadtwald 5\, 76689 Karlsdorf-Neuthard\, Deutschland
X-APPLE-STRUCTURED-LOCATION;VALUE=URI;X-ADDRESS=Stadtwald 5\, 76689 Karlsdo
 rf-Neuthard\, Deutschland;X-APPLE-RADIUS=100;X-TITLE=Erlenwald:geo:0,0
END:VEVENT
BEGIN:VTIMEZONE
TZID:Europe/Berlin
X-LIC-LOCATION:Europe/Berlin
BEGIN:DAYLIGHT
DTSTART:20260329T030000
TZOFFSETFROM:+0100
TZOFFSETTO:+0200
TZNAME:CEST
END:DAYLIGHT
END:VTIMEZONE
END:VCALENDAR