BEGIN:VCALENDAR
VERSION:2.0
PRODID:-//wp-events-plugin.com//7.2.3.1//EN
TZID:Europe/Berlin
X-WR-TIMEZONE:Europe/Berlin
BEGIN:VEVENT
UID:14@vogelpark-karlsdorf.de
DTSTART;TZID=Europe/Berlin:20260522T180000
DTEND;TZID=Europe/Berlin:20260522T234500
DTSTAMP:20251123T182005Z
URL:https://vogelpark-karlsdorf.de/events/parkfest-22-05-26
SUMMARY:Parkfest 22.05.26
DESCRIPTION:Wir laden euch herzlich zu unserem diesjährigen Parkfest ein.\
 nWir starten am Freitag den 22.05.2026 ab 18:00Uhr mit Leckereien vom Gril
 l\, kühlen Getränken und Live Musik ab 19:00Uhr.
LOCATION:Erlenwald\, Stadtwald 5\, 76689 Karlsdorf-Neuthard\, Deutschland
X-APPLE-STRUCTURED-LOCATION;VALUE=URI;X-ADDRESS=Stadtwald 5\, 76689 Karlsdo
 rf-Neuthard\, Deutschland;X-APPLE-RADIUS=100;X-TITLE=Erlenwald:geo:0,0
END:VEVENT
BEGIN:VTIMEZONE
TZID:Europe/Berlin
X-LIC-LOCATION:Europe/Berlin
BEGIN:DAYLIGHT
DTSTART:20260329T030000
TZOFFSETFROM:+0100
TZOFFSETTO:+0200
TZNAME:CEST
END:DAYLIGHT
END:VTIMEZONE
END:VCALENDAR